BEGIN:VCALENDAR
PRODID:-//ICTPDiploma//ATRoom//EN
VERSION:1.0
BEGIN:VEVENT
DTSTART:20211125T100000Z
DTEND:20211125T113000Z
DCREATED:20211108T112729Z
UID:ATEvent-a0ea6af38f204020adb383c4ff35477f
SEQUENCE:0
LAST-MODIFIED:20211108T112749Z
SUMMARY:EXAM Calculus
LOCATION:Lecture Room Stasi
PRIORITY:3
TRANSP:0
END:VEVENT
BEGIN:VEVENT
DTSTART:20211123T130000Z
DTEND:20211123T143000Z
DCREATED:20211117T092049Z
UID:ATEvent-c0b873cb591948278bbbfdac8299848c
SEQUENCE:0
LAST-MODIFIED:20211117T092049Z
SUMMARY:QLS-BIO
LOCATION:Lecture Room Stasi
PRIORITY:3
TRANSP:0
END:VEVENT
BEGIN:VEVENT
DTSTART:20211125T130000Z
DTEND:20211125T143000Z
DCREATED:20211117T092050Z
UID:ATEvent-d838d925690d4878a00ca1e0d64f70d8
SEQUENCE:0
LAST-MODIFIED:20211117T092050Z
SUMMARY:QLS-BIO
LOCATION:Lecture Room Stasi
PRIORITY:3
TRANSP:0
END:VEVENT
BEGIN:VEVENT
DTSTART:20211126T130000Z
DTEND:20211126T143000Z
DCREATED:20211117T092126Z
UID:ATEvent-c05345ae105d49c7ab728d90873a169b
SEQUENCE:0
LAST-MODIFIED:20211117T092146Z
SUMMARY:QLS-BIO
LOCATION:Lecture Room Stasi
PRIORITY:3
TRANSP:0
END:VEVENT
END:VCALENDAR
