BEGIN:VCALENDAR
PRODID:-//ICTPDiploma//ATRoom//EN
VERSION:1.0
BEGIN:VEVENT
DTSTART:20220502T070000Z
DTEND:20220502T083000Z
DCREATED:20220309T101952Z
UID:ATEvent-f423a9e4bb08438691840afd36e4cd95
SEQUENCE:0
LAST-MODIFIED:20220309T102007Z
SUMMARY:ICTP
LOCATION:Lecture Room Stasi
PRIORITY:3
TRANSP:0
END:VEVENT
BEGIN:VEVENT
DTSTART:20220502T090000Z
DTEND:20220502T103000Z
DCREATED:20220309T102010Z
UID:ATEvent-753bdd1f9fa044b6ab7881f63cf1ca60
SEQUENCE:0
LAST-MODIFIED:20220309T102026Z
SUMMARY:official holiday
LOCATION:Lecture Room Stasi
PRIORITY:3
TRANSP:0
END:VEVENT
BEGIN:VEVENT
DTSTART:20220502T120000Z
DTEND:20220502T133000Z
DCREATED:20220309T102030Z
UID:ATEvent-c216341208e4444d83f03f558dfc9fcc
SEQUENCE:0
LAST-MODIFIED:20220309T102045Z
SUMMARY:in lieu of
LOCATION:Lecture Room Stasi
PRIORITY:3
TRANSP:0
END:VEVENT
BEGIN:VEVENT
DTSTART:20220502T140000Z
DTEND:20220502T153000Z
DCREATED:20220309T102049Z
UID:ATEvent-9bd3ebac002e4cfbb1097ee94d799985
SEQUENCE:0
LAST-MODIFIED:20220309T102104Z
SUMMARY:Labour Day
LOCATION:Lecture Room Stasi
PRIORITY:3
TRANSP:0
END:VEVENT
END:VCALENDAR
