BEGIN:VCALENDAR
PRODID:-//AT Content Types//AT Event//EN
VERSION:2.0
METHOD:PUBLISH
BEGIN:VEVENT
DTSTAMP:20260420T082322Z
CREATED:20201005T075651Z
UID:ATEvent-bb16867c755041a5bfb54846a4f1b539
LAST-MODIFIED:20201005T075711Z
SUMMARY:QLS-SPP
DTSTART:20200928T140000Z
DTEND:20200928T153000Z
LOCATION:Lecture Room Stasi
CONTACT:J. Barbier
URL:https://diploma-clear.ictp.it/courses/weekly-schedule/lecture-room-stasi/qls-spp-3
CLASS:PUBLIC
END:VEVENT
END:VCALENDAR
