BEGIN:VCALENDAR
PRODID:-//AT Content Types//AT Event//EN
VERSION:1.0
BEGIN:VEVENT
DTSTART:20200930T070000Z
DTEND:20200930T083000Z
DCREATED:20201005T073753Z
UID:ATEvent-8e52e171ebfa4ff49151c7fb63cd1912
SEQUENCE:0
LAST-MODIFIED:20201005T090057Z
SUMMARY:QLS-PIT
LOCATION:Lecture Room Stasi
PRIORITY:3
TRANSP:0
END:VEVENT
END:VCALENDAR
