BEGIN:VCALENDAR
PRODID:-//AT Content Types//AT Event//EN
VERSION:1.0
BEGIN:VEVENT
DTSTART:20211214T130000Z
DTEND:20211214T143000Z
DCREATED:20211117T092050Z
UID:ATEvent-2241aa6b48594eb193187d0d55317070
SEQUENCE:0
LAST-MODIFIED:20211117T092050Z
SUMMARY:QLS-BIO
LOCATION:Lecture Room Stasi
PRIORITY:3
TRANSP:0
END:VEVENT
END:VCALENDAR
