BEGIN:VCALENDAR
PRODID:-//AT Content Types//AT Event//EN
VERSION:1.0
BEGIN:VEVENT
DTSTART:20211125T130000Z
DTEND:20211125T143000Z
DCREATED:20211117T092050Z
UID:ATEvent-d838d925690d4878a00ca1e0d64f70d8
SEQUENCE:0
LAST-MODIFIED:20211117T092050Z
SUMMARY:QLS-BIO
LOCATION:Lecture Room Stasi
PRIORITY:3
TRANSP:0
END:VEVENT
END:VCALENDAR
