BEGIN:VCALENDAR
PRODID:-//AT Content Types//AT Event//EN
VERSION:1.0
BEGIN:VEVENT
DTSTART:20211118T130000Z
DTEND:20211118T143000Z
DCREATED:20211117T092049Z
UID:ATEvent-7476e7ddbedd4d218a456ef1848605ca
SEQUENCE:0
LAST-MODIFIED:20211117T092049Z
SUMMARY:QLS-BIO
LOCATION:Lecture Room Stasi
PRIORITY:3
TRANSP:0
END:VEVENT
END:VCALENDAR
