BEGIN:VCALENDAR
PRODID:-//AT Content Types//AT Event//EN
VERSION:1.0
BEGIN:VEVENT
DTSTART:20210127T150000Z
DTEND:20210127T163000Z
DCREATED:20201217T134042Z
UID:ATEvent-ce77765f24824ba79ea0aa79e2626194
SEQUENCE:0
LAST-MODIFIED:20201217T134042Z
SUMMARY:Abdus Salam Distinguished Lectures
LOCATION:Lecture Room Stasi
PRIORITY:3
TRANSP:0
END:VEVENT
END:VCALENDAR
