BEGIN:VCALENDAR
PRODID:-//AT Content Types//AT Event//EN
VERSION:2.0
METHOD:PUBLISH
BEGIN:VEVENT
DTSTAMP:20260420T212633Z
CREATED:20201012T120234Z
UID:ATEvent-8b5f2dbfa185457382a24aaee3c3a816
LAST-MODIFIED:20201012T120234Z
SUMMARY:QLS-PIT
DTSTART:20201116T100000Z
DTEND:20201116T113000Z
LOCATION:Lecture Room Stasi
CONTACT:M. Marsili
URL:https://diploma-clear.ictp.it/courses/weekly-schedule/lecture-room-stasi/lecture.2020-10-12.1548475385
CLASS:PUBLIC
END:VEVENT
END:VCALENDAR
