BEGIN:VCALENDAR
PRODID:-//AT Content Types//AT Event//EN
VERSION:2.0
METHOD:PUBLISH
BEGIN:VEVENT
DTSTAMP:20260422T034630Z
CREATED:20201005T085148Z
UID:ATEvent-db3fd518f5074441a5f8076dd6e62dca
LAST-MODIFIED:20201005T085148Z
SUMMARY:QLS-BIO
DTSTART:20201008T120000Z
DTEND:20201008T133000Z
LOCATION:Lecture Room Stasi
CONTACT:E. Roldan
URL:https://diploma-clear.ictp.it/courses/weekly-schedule/lecture-room-stasi/lecture.2020-10-05.9084867940
CLASS:PUBLIC
END:VEVENT
END:VCALENDAR
