BEGIN:VCALENDAR
PRODID:-//AT Content Types//AT Event//EN
VERSION:1.0
BEGIN:VEVENT
DTSTART:20110620T090000Z
DTEND:20110620T103000Z
DCREATED:20110606T140524Z
UID:ATEvent-df6bb633aaa9e2da939c490164ad996d
SEQUENCE:0
LAST-MODIFIED:20110606T140552Z
SUMMARY:WRITTEN EXAM
LOCATION:Lecture Room H
PRIORITY:3
TRANSP:0
END:VEVENT
END:VCALENDAR
