BEGIN:VCALENDAR
PRODID:-//AT Content Types//AT Event//EN
VERSION:1.0
BEGIN:VEVENT
DTSTART:20080916T120000Z
DTEND:20080916T133000Z
DCREATED:20081008T095744Z
UID:ATEvent-024c0048173fc9234f4db52cfe743d35
SEQUENCE:0
LAST-MODIFIED:20081008T100032Z
SUMMARY:Welcome Ceremony Main Lecture Hall
LOCATION:Lecture Room H
PRIORITY:3
TRANSP:0
END:VEVENT
END:VCALENDAR
