BEGIN:VCALENDAR
PRODID:-//ICTPDiploma//ATRoom//EN
VERSION:1.0
BEGIN:VEVENT
DTSTART:20110615T070000Z
DTEND:20110615T083000Z
DCREATED:20110328T092511Z
UID:ATEvent-202eac71524f63a08446fc223a0dee1c
SEQUENCE:0
LAST-MODIFIED:20110614T135056Z
SUMMARY:BP-SSP
LOCATION:Lecture Room H
PRIORITY:3
TRANSP:0
END:VEVENT
BEGIN:VEVENT
DTSTART:20110616T070000Z
DTEND:20110616T083000Z
DCREATED:20110328T092747Z
UID:ATEvent-4d09da47104b27891271238f770d267e
SEQUENCE:0
LAST-MODIFIED:20110328T092854Z
SUMMARY:BP-SSP
LOCATION:Lecture Room H
PRIORITY:3
TRANSP:0
END:VEVENT
BEGIN:VEVENT
DTSTART:20110614T090000Z
DTEND:20110614T103000Z
DCREATED:20110322T095912Z
UID:ATEvent-917d31bc2688999fd5e6c9aa6c598aa8
SEQUENCE:0
LAST-MODIFIED:20110322T100001Z
SUMMARY:BP-PES
LOCATION:Lecture Room H
PRIORITY:3
TRANSP:0
END:VEVENT
BEGIN:VEVENT
DTSTART:20110616T090000Z
DTEND:20110616T103000Z
DCREATED:20110512T133809Z
UID:ATEvent-f18da3952a240048701129741ce41cac
SEQUENCE:0
LAST-MODIFIED:20110512T133835Z
SUMMARY:BP-PES
LOCATION:Lecture Room H
PRIORITY:3
TRANSP:0
END:VEVENT
BEGIN:VEVENT
DTSTART:20110613T120000Z
DTEND:20110613T133000Z
DCREATED:20110512T133437Z
UID:ATEvent-fdf795343e61a7480c6e0fecb0e6c430
SEQUENCE:0
LAST-MODIFIED:20110610T155427Z
SUMMARY:ESP-MEV
LOCATION:Lecture Room H
PRIORITY:3
TRANSP:0
END:VEVENT
BEGIN:VEVENT
DTSTART:20110615T120000Z
DTEND:20110615T133000Z
DCREATED:20110322T100104Z
UID:ATEvent-f34918ba30cf7d33edfb0d49d941a5b7
SEQUENCE:0
LAST-MODIFIED:20110322T100129Z
SUMMARY:BP-AQM
LOCATION:Lecture Room H
PRIORITY:3
TRANSP:0
END:VEVENT
BEGIN:VEVENT
DTSTART:20110616T120000Z
DTEND:20110616T133000Z
DCREATED:20110322T100139Z
UID:ATEvent-9510af197a3cddb9dcc8f2307e0a2af7
SEQUENCE:0
LAST-MODIFIED:20110322T100200Z
SUMMARY:BP-AQM
LOCATION:Lecture Room H
PRIORITY:3
TRANSP:0
END:VEVENT
BEGIN:VEVENT
DTSTART:20110617T120000Z
DTEND:20110617T133000Z
DCREATED:20110322T100012Z
UID:ATEvent-b03048e7878721026e22bcb4a8d52434
SEQUENCE:0
LAST-MODIFIED:20110614T135149Z
SUMMARY:BP-AQM
LOCATION:Lecture Room H
PRIORITY:3
TRANSP:0
END:VEVENT
BEGIN:VEVENT
DTSTART:20110613T140000Z
DTEND:20110613T153000Z
DCREATED:20110512T133604Z
UID:ATEvent-5a842d9684f9a2a22d5e1ac9f9e1683d
SEQUENCE:0
LAST-MODIFIED:20110610T155415Z
SUMMARY:EXAM
LOCATION:Lecture Room H
PRIORITY:3
TRANSP:0
END:VEVENT
BEGIN:VEVENT
DTSTART:20110616T140000Z
DTEND:20110616T153000Z
DCREATED:20110322T100216Z
UID:ATEvent-f519282debac39bc0b8f6b382a07c0dc
SEQUENCE:0
LAST-MODIFIED:20110322T100300Z
SUMMARY:BP-SM tut.
LOCATION:Lecture Room H
PRIORITY:3
TRANSP:0
END:VEVENT
END:VCALENDAR
