BEGIN:VCALENDAR
PRODID:-//ICTPDiploma//ATRoom//EN
VERSION:1.0
BEGIN:VEVENT
DTSTART:20200603T140000Z
DTEND:20200603T153000Z
DCREATED:20200528T122523Z
UID:ATEvent-22d23e3329f04a359157a32b0b9cb7d5
SEQUENCE:0
LAST-MODIFIED:20200528T122547Z
SUMMARY:Webinar Colloquium by D. Wolpert
LOCATION:Lecture Room H
PRIORITY:3
TRANSP:0
END:VEVENT
END:VCALENDAR
