BEGIN:VCALENDAR
PRODID:-//ICTPDiploma//ATRoom//EN
VERSION:1.0
BEGIN:VEVENT
DTSTART:20130523T070000Z
DTEND:20130523T083000Z
DCREATED:20130321T130658Z
UID:ATEvent-e48e1085ae5968f3cac3f1f687334249
SEQUENCE:0
LAST-MODIFIED:20130321T130745Z
SUMMARY:ESP-HYD
LOCATION:Lecture Room H
PRIORITY:3
TRANSP:0
END:VEVENT
BEGIN:VEVENT
DTSTART:20130523T090000Z
DTEND:20130523T103000Z
DCREATED:20130321T130759Z
UID:ATEvent-3bdd42236a4bcc12619a9abb6772598a
SEQUENCE:0
LAST-MODIFIED:20130321T131612Z
SUMMARY:EXAM
LOCATION:Lecture Room H
PRIORITY:3
TRANSP:0
END:VEVENT
BEGIN:VEVENT
DTSTART:20130520T120000Z
DTEND:20130520T133000Z
DCREATED:20121221T140609Z
UID:ATEvent-f084bee3a941767a95c99146eba345d5
SEQUENCE:0
LAST-MODIFIED:20121221T140610Z
SUMMARY:ESP-EE
LOCATION:Lecture Room H
PRIORITY:3
TRANSP:0
END:VEVENT
BEGIN:VEVENT
DTSTART:20130524T120000Z
DTEND:20130524T133000Z
DCREATED:20121221T140610Z
UID:ATEvent-d978e583585c65ca761ae10a324bc19f
SEQUENCE:0
LAST-MODIFIED:20121221T140610Z
SUMMARY:ESP-EE
LOCATION:Lecture Room H
PRIORITY:3
TRANSP:0
END:VEVENT
BEGIN:VEVENT
DTSTART:20130520T140000Z
DTEND:20130520T153000Z
DCREATED:20121221T140744Z
UID:ATEvent-ade4d43ede42c490c3bbe06628e67fa2
SEQUENCE:0
LAST-MODIFIED:20121221T140745Z
SUMMARY:ESP-EE
LOCATION:Lecture Room H
PRIORITY:3
TRANSP:0
END:VEVENT
BEGIN:VEVENT
DTSTART:20130524T140000Z
DTEND:20130524T153000Z
DCREATED:20121221T140745Z
UID:ATEvent-ae6bb22349bd11cfa687656a1980920f
SEQUENCE:0
LAST-MODIFIED:20121221T140745Z
SUMMARY:ESP-EE
LOCATION:Lecture Room H
PRIORITY:3
TRANSP:0
END:VEVENT
END:VCALENDAR
