BEGIN:VCALENDAR
PRODID:-//ICTPDiploma//ATRoom//EN
VERSION:1.0
BEGIN:VEVENT
DTSTART:20090427T070000Z
DTEND:20090427T083000Z
DCREATED:20090205T154105Z
UID:ATEvent-a231bd0e545db1d0c5fa42fe94cb17aa
SEQUENCE:0
LAST-MODIFIED:20090205T154149Z
SUMMARY:BP-SM
LOCATION:Lecture Room H
PRIORITY:3
TRANSP:0
END:VEVENT
BEGIN:VEVENT
DTSTART:20090429T070000Z
DTEND:20090429T083000Z
DCREATED:20090205T154208Z
UID:ATEvent-5c33c78bb7af5ea0c984d637d4fa035c
SEQUENCE:0
LAST-MODIFIED:20090205T154254Z
SUMMARY:BP-SM
LOCATION:Lecture Room H
PRIORITY:3
TRANSP:0
END:VEVENT
BEGIN:VEVENT
DTSTART:20090430T070000Z
DTEND:20090430T083000Z
DCREATED:20090206T081359Z
UID:ATEvent-33d0c2df7466bf77404007338967e71f
SEQUENCE:0
LAST-MODIFIED:20090206T081438Z
SUMMARY:BP-SSP
LOCATION:Lecture Room H
PRIORITY:3
TRANSP:0
END:VEVENT
BEGIN:VEVENT
DTSTART:20090501T070000Z
DTEND:20090501T170000Z
DCREATED:20090116T104433Z
UID:ATEvent-052475f4c7c1f07f25a2cb939ec128ab
SEQUENCE:0
LAST-MODIFIED:20090116T104522Z
SUMMARY:
LOCATION:Lecture Room H
PRIORITY:3
TRANSP:0
END:VEVENT
BEGIN:VEVENT
DTSTART:20090427T090000Z
DTEND:20090427T103000Z
DCREATED:20090326T140242Z
UID:ATEvent-3c125a89af7d11ef9f70a0ff7083e01b
SEQUENCE:0
LAST-MODIFIED:20090326T140334Z
SUMMARY:BP-SM tut.
LOCATION:Lecture Room H
PRIORITY:3
TRANSP:0
END:VEVENT
BEGIN:VEVENT
DTSTART:20090428T090000Z
DTEND:20090428T103000Z
DCREATED:20090207T094918Z
UID:ATEvent-615694ca1f0a6fcf3a0ca49d653563ef
SEQUENCE:0
LAST-MODIFIED:20090207T095025Z
SUMMARY:ESP-IM
LOCATION:Lecture Room H
PRIORITY:3
TRANSP:0
END:VEVENT
BEGIN:VEVENT
DTSTART:20090429T090000Z
DTEND:20090429T103000Z
DCREATED:20090207T095056Z
UID:ATEvent-f26a5533b9d3c926e8ed02f5e15ffa14
SEQUENCE:0
LAST-MODIFIED:20090207T095128Z
SUMMARY:ESP-IM
LOCATION:Lecture Room H
PRIORITY:3
TRANSP:0
END:VEVENT
BEGIN:VEVENT
DTSTART:20090430T090000Z
DTEND:20090430T103000Z
DCREATED:20090207T095236Z
UID:ATEvent-6f2a8cfc99c150daa85f00fd5cc99b87
SEQUENCE:0
LAST-MODIFIED:20090207T095315Z
SUMMARY:ESP-IM
LOCATION:Lecture Room H
PRIORITY:3
TRANSP:0
END:VEVENT
BEGIN:VEVENT
DTSTART:20090501T070000Z
DTEND:20090501T170000Z
DCREATED:20090116T104433Z
UID:ATEvent-052475f4c7c1f07f25a2cb939ec128ab
SEQUENCE:0
LAST-MODIFIED:20090116T104522Z
SUMMARY:
LOCATION:Lecture Room H
PRIORITY:3
TRANSP:0
END:VEVENT
BEGIN:VEVENT
DTSTART:20090427T120000Z
DTEND:20090427T133000Z
DCREATED:20090207T094722Z
UID:ATEvent-6007bbdfc3e6dca06850f72c22fe66e7
SEQUENCE:0
LAST-MODIFIED:20090207T094805Z
SUMMARY:ESP-EE
LOCATION:Lecture Room H
PRIORITY:3
TRANSP:0
END:VEVENT
BEGIN:VEVENT
DTSTART:20090428T120000Z
DTEND:20090428T133000Z
DCREATED:20090207T094819Z
UID:ATEvent-1debae77acf294a0a2f72425cb03f679
SEQUENCE:0
LAST-MODIFIED:20090207T094858Z
SUMMARY:ESP-IM
LOCATION:Lecture Room H
PRIORITY:3
TRANSP:0
END:VEVENT
BEGIN:VEVENT
DTSTART:20090429T120000Z
DTEND:20090429T133000Z
DCREATED:20090207T095140Z
UID:ATEvent-4e0ccc6535e2cbdd980b98ecada01298
SEQUENCE:0
LAST-MODIFIED:20090207T095218Z
SUMMARY:ESP-IM
LOCATION:Lecture Room H
PRIORITY:3
TRANSP:0
END:VEVENT
BEGIN:VEVENT
DTSTART:20090430T120000Z
DTEND:20090430T133000Z
DCREATED:20090207T095332Z
UID:ATEvent-c892bcb3af25df7e370cbffd5bc36c1e
SEQUENCE:0
LAST-MODIFIED:20090207T095418Z
SUMMARY:ESP-IM
LOCATION:Lecture Room H
PRIORITY:3
TRANSP:0
END:VEVENT
BEGIN:VEVENT
DTSTART:20090501T070000Z
DTEND:20090501T170000Z
DCREATED:20090116T104433Z
UID:ATEvent-052475f4c7c1f07f25a2cb939ec128ab
SEQUENCE:0
LAST-MODIFIED:20090116T104522Z
SUMMARY:
LOCATION:Lecture Room H
PRIORITY:3
TRANSP:0
END:VEVENT
BEGIN:VEVENT
DTSTART:20090430T140000Z
DTEND:20090430T153000Z
DCREATED:20090422T134848Z
UID:ATEvent-ecce257fa774a16631bd83a46b517f6b
SEQUENCE:0
LAST-MODIFIED:20090422T135000Z
SUMMARY:BP-AQM midterm exam
LOCATION:Lecture Room H
PRIORITY:3
TRANSP:0
END:VEVENT
BEGIN:VEVENT
DTSTART:20090501T070000Z
DTEND:20090501T170000Z
DCREATED:20090116T104433Z
UID:ATEvent-052475f4c7c1f07f25a2cb939ec128ab
SEQUENCE:0
LAST-MODIFIED:20090116T104522Z
SUMMARY:
LOCATION:Lecture Room H
PRIORITY:3
TRANSP:0
END:VEVENT
BEGIN:VEVENT
DTSTART:20090501T070000Z
DTEND:20090501T170000Z
DCREATED:20090116T104433Z
UID:ATEvent-052475f4c7c1f07f25a2cb939ec128ab
SEQUENCE:0
LAST-MODIFIED:20090116T104522Z
SUMMARY:
LOCATION:Lecture Room H
PRIORITY:3
TRANSP:0
END:VEVENT
END:VCALENDAR
