BEGIN:VCALENDAR
PRODID:-//ICTPDiploma//ATRoom//EN
VERSION:1.0
BEGIN:VEVENT
DTSTART:20160418T070000Z
DTEND:20160418T083000Z
DCREATED:20160329T100014Z
UID:ATEvent-9e2f8ed69d8d4c4987d31a62ea90575c
SEQUENCE:0
LAST-MODIFIED:20160330T091739Z
SUMMARY:ESP-PV
LOCATION:Lecture Room H
PRIORITY:3
TRANSP:0
END:VEVENT
BEGIN:VEVENT
DTSTART:20160418T090000Z
DTEND:20160418T103000Z
DCREATED:20160330T091259Z
UID:ATEvent-27b1d618c19f467ab109317042810eb8
SEQUENCE:0
LAST-MODIFIED:20160330T091620Z
SUMMARY:EXAM
LOCATION:Lecture Room H
PRIORITY:3
TRANSP:0
END:VEVENT
END:VCALENDAR
