BEGIN:VCALENDAR
PRODID:-//ICTPDiploma//ATRoom//EN
VERSION:1.0
BEGIN:VEVENT
DTSTART:20200413T070000Z
DTEND:20200413T083000Z
DCREATED:20191118T092209Z
UID:ATEvent-a681dabd74454605b29a0ecf621ae062
SEQUENCE:0
LAST-MODIFIED:20191118T092224Z
SUMMARY:EASTER
LOCATION:Lecture Room H
PRIORITY:3
TRANSP:0
END:VEVENT
BEGIN:VEVENT
DTSTART:20200414T070000Z
DTEND:20200414T083000Z
DCREATED:20200331T055010Z
UID:ATEvent-c7c1b131e1d34d298f8777e0a11d6421
SEQUENCE:0
LAST-MODIFIED:20200331T055044Z
SUMMARY:ESP-APS
LOCATION:Lecture Room H
PRIORITY:3
TRANSP:0
END:VEVENT
BEGIN:VEVENT
DTSTART:20200415T070000Z
DTEND:20200415T083000Z
DCREATED:20200225T133834Z
UID:ATEvent-12fff28d021d4d20be59624009e281ba
SEQUENCE:0
LAST-MODIFIED:20200225T133902Z
SUMMARY:ESP-PDO
LOCATION:Lecture Room H
PRIORITY:3
TRANSP:0
END:VEVENT
BEGIN:VEVENT
DTSTART:20200416T070000Z
DTEND:20200416T083000Z
DCREATED:20200328T111244Z
UID:ATEvent-03acea8e3b824412a43c01fcb374605e
SEQUENCE:0
LAST-MODIFIED:20200331T121555Z
SUMMARY:ESP-APS
LOCATION:Lecture Room H
PRIORITY:3
TRANSP:0
END:VEVENT
BEGIN:VEVENT
DTSTART:20200417T070000Z
DTEND:20200417T083000Z
DCREATED:20200225T133907Z
UID:ATEvent-cdde86bb0a454723a1571b47eceefd3a
SEQUENCE:0
LAST-MODIFIED:20200225T133930Z
SUMMARY:ESP-PDO
LOCATION:Lecture Room H
PRIORITY:3
TRANSP:0
END:VEVENT
BEGIN:VEVENT
DTSTART:20200413T090000Z
DTEND:20200413T103000Z
DCREATED:20191118T092230Z
UID:ATEvent-b54021d7bc2540cd94261165fb79f457
SEQUENCE:0
LAST-MODIFIED:20191118T092244Z
SUMMARY:MONDAY
LOCATION:Lecture Room H
PRIORITY:3
TRANSP:0
END:VEVENT
BEGIN:VEVENT
DTSTART:20200414T090000Z
DTEND:20200414T103000Z
DCREATED:20191118T091826Z
UID:ATEvent-123c0e58260c4d57af94d2cbdf83866d
SEQUENCE:0
LAST-MODIFIED:20191212T135019Z
SUMMARY:ESP-BGC
LOCATION:Lecture Room H
PRIORITY:3
TRANSP:0
END:VEVENT
BEGIN:VEVENT
DTSTART:20200415T090000Z
DTEND:20200415T103000Z
DCREATED:20191118T091826Z
UID:ATEvent-23282671e3e5416f937004c236bb170d
SEQUENCE:0
LAST-MODIFIED:20191212T135034Z
SUMMARY:ESP-BGC
LOCATION:Lecture Room H
PRIORITY:3
TRANSP:0
END:VEVENT
BEGIN:VEVENT
DTSTART:20200417T090000Z
DTEND:20200417T103000Z
DCREATED:20191118T091826Z
UID:ATEvent-373668a6824f49d79e74e66744699f3e
SEQUENCE:0
LAST-MODIFIED:20191212T135056Z
SUMMARY:ESP-BGC
LOCATION:Lecture Room H
PRIORITY:3
TRANSP:0
END:VEVENT
BEGIN:VEVENT
DTSTART:20200413T120000Z
DTEND:20200413T133000Z
DCREATED:20191118T092247Z
UID:ATEvent-d69ad0db5aaf464195194f32c0177199
SEQUENCE:0
LAST-MODIFIED:20191118T092302Z
SUMMARY:ICTP
LOCATION:Lecture Room H
PRIORITY:3
TRANSP:0
END:VEVENT
BEGIN:VEVENT
DTSTART:20200414T120000Z
DTEND:20200414T133000Z
DCREATED:20200210T140110Z
UID:ATEvent-e77d2f7a9906496ab3cdcbf13f0bf4d4
SEQUENCE:0
LAST-MODIFIED:20200210T140110Z
SUMMARY:ESP-PV
LOCATION:Lecture Room H
PRIORITY:3
TRANSP:0
END:VEVENT
BEGIN:VEVENT
DTSTART:20200415T120000Z
DTEND:20200415T133000Z
DCREATED:20200210T140110Z
UID:ATEvent-83f82f57e7f44aa89de33f5c51f0cfb5
SEQUENCE:0
LAST-MODIFIED:20200210T140110Z
SUMMARY:ESP-PV
LOCATION:Lecture Room H
PRIORITY:3
TRANSP:0
END:VEVENT
BEGIN:VEVENT
DTSTART:20200416T120000Z
DTEND:20200416T133000Z
DCREATED:20200210T140110Z
UID:ATEvent-2996080c834d4ba4b1eaa85b838deacb
SEQUENCE:0
LAST-MODIFIED:20200210T140110Z
SUMMARY:ESP-PV
LOCATION:Lecture Room H
PRIORITY:3
TRANSP:0
END:VEVENT
BEGIN:VEVENT
DTSTART:20200417T120000Z
DTEND:20200417T133000Z
DCREATED:20200210T140110Z
UID:ATEvent-97d2d2e782484917b1d1316c6c9e4225
SEQUENCE:0
LAST-MODIFIED:20200210T140110Z
SUMMARY:ESP-PV
LOCATION:Lecture Room H
PRIORITY:3
TRANSP:0
END:VEVENT
BEGIN:VEVENT
DTSTART:20200413T140000Z
DTEND:20200413T153000Z
DCREATED:20191118T092305Z
UID:ATEvent-54f534171d98407e87440afdbb087272
SEQUENCE:0
LAST-MODIFIED:20191118T092321Z
SUMMARY:official holiday
LOCATION:Lecture Room H
PRIORITY:3
TRANSP:0
END:VEVENT
BEGIN:VEVENT
DTSTART:20200414T140000Z
DTEND:20200414T153000Z
DCREATED:20200210T140118Z
UID:ATEvent-2672db453ca54a9699e24175b171f957
SEQUENCE:0
LAST-MODIFIED:20200210T140157Z
SUMMARY:ESP-PV
LOCATION:Lecture Room H
PRIORITY:3
TRANSP:0
END:VEVENT
BEGIN:VEVENT
DTSTART:20200415T140000Z
DTEND:20200415T153000Z
DCREATED:20200408T161058Z
UID:ATEvent-c05d7113937647a9bf8bbf8b5355d707
SEQUENCE:0
LAST-MODIFIED:20200408T161127Z
SUMMARY:ES-PV tut. (2)
LOCATION:Lecture Room H
PRIORITY:3
TRANSP:0
END:VEVENT
BEGIN:VEVENT
DTSTART:20200416T140000Z
DTEND:20200416T153000Z
DCREATED:20200210T140215Z
UID:ATEvent-199915bb380646bb83c0da560fb75099
SEQUENCE:0
LAST-MODIFIED:20200210T140239Z
SUMMARY:ESP-PV
LOCATION:Lecture Room H
PRIORITY:3
TRANSP:0
END:VEVENT
END:VCALENDAR
