BEGIN:VCALENDAR
PRODID:-//ICTPDiploma//ATRoom//EN
VERSION:1.0
BEGIN:VEVENT
DTSTART:20160404T070000Z
DTEND:20160404T083000Z
DCREATED:20151208T150204Z
UID:ATEvent-10903fe9e33c43059f1f61f726a42f8e
SEQUENCE:0
LAST-MODIFIED:20160330T090653Z
SUMMARY:ESP-AD
LOCATION:Lecture Room H
PRIORITY:3
TRANSP:0
END:VEVENT
BEGIN:VEVENT
DTSTART:20160405T070000Z
DTEND:20160405T083000Z
DCREATED:20151208T145433Z
UID:ATEvent-d512b2d3359b410284b00c95d8e7e2cb
SEQUENCE:0
LAST-MODIFIED:20151208T145433Z
SUMMARY:ESP-GFD
LOCATION:Lecture Room H
PRIORITY:3
TRANSP:0
END:VEVENT
BEGIN:VEVENT
DTSTART:20160407T070000Z
DTEND:20160407T083000Z
DCREATED:20151208T145849Z
UID:ATEvent-dd4a89770fff4ce48ef8cb1a6555491e
SEQUENCE:0
LAST-MODIFIED:20151208T145926Z
SUMMARY:ESP-GFD
LOCATION:Lecture Room H
PRIORITY:3
TRANSP:0
END:VEVENT
BEGIN:VEVENT
DTSTART:20160405T120000Z
DTEND:20160405T133000Z
DCREATED:20160308T160141Z
UID:ATEvent-29cac9d942ca43099a3aad62245dda62
SEQUENCE:0
LAST-MODIFIED:20160329T094947Z
SUMMARY:at 13:00 hrs     ESP-MET
LOCATION:Lecture Room H
PRIORITY:3
TRANSP:0
END:VEVENT
BEGIN:VEVENT
DTSTART:20160406T120000Z
DTEND:20160406T133000Z
DCREATED:20151211T104120Z
UID:ATEvent-6610e21eecef4b9c945833b02380f0c5
SEQUENCE:0
LAST-MODIFIED:20151211T104120Z
SUMMARY:ESP-PV
LOCATION:Lecture Room H
PRIORITY:3
TRANSP:0
END:VEVENT
BEGIN:VEVENT
DTSTART:20160407T120000Z
DTEND:20160407T133000Z
DCREATED:20151211T104120Z
UID:ATEvent-921e3718dca2417785ca8e4ae49e6bee
SEQUENCE:0
LAST-MODIFIED:20151211T104120Z
SUMMARY:ESP-PV
LOCATION:Lecture Room H
PRIORITY:3
TRANSP:0
END:VEVENT
BEGIN:VEVENT
DTSTART:20160408T120000Z
DTEND:20160408T133000Z
DCREATED:20151211T104120Z
UID:ATEvent-3c99aae7f09d43bcad732777f6da9f8d
SEQUENCE:0
LAST-MODIFIED:20151211T104120Z
SUMMARY:ESP-PV
LOCATION:Lecture Room H
PRIORITY:3
TRANSP:0
END:VEVENT
BEGIN:VEVENT
DTSTART:20160405T140000Z
DTEND:20160405T153000Z
DCREATED:20160308T160424Z
UID:ATEvent-a25c8dc5a8b143af9c323c1d477ecfcc
SEQUENCE:0
LAST-MODIFIED:20160308T160554Z
SUMMARY:EXAM
LOCATION:Lecture Room H
PRIORITY:3
TRANSP:0
END:VEVENT
BEGIN:VEVENT
DTSTART:20160406T140000Z
DTEND:20160406T153000Z
DCREATED:20151211T104232Z
UID:ATEvent-1b3aff1994d241699271c9231fc63e24
SEQUENCE:0
LAST-MODIFIED:20151211T104232Z
SUMMARY:ESP-PV
LOCATION:Lecture Room H
PRIORITY:3
TRANSP:0
END:VEVENT
BEGIN:VEVENT
DTSTART:20160407T140000Z
DTEND:20160407T153000Z
DCREATED:20151211T104232Z
UID:ATEvent-ca4594a9bc144822af722cb10a436b13
SEQUENCE:0
LAST-MODIFIED:20151211T104232Z
SUMMARY:ESP-PV
LOCATION:Lecture Room H
PRIORITY:3
TRANSP:0
END:VEVENT
BEGIN:VEVENT
DTSTART:20160408T140000Z
DTEND:20160408T153000Z
DCREATED:20151211T104232Z
UID:ATEvent-85ee79e6aaff4e92aff35936a5332193
SEQUENCE:0
LAST-MODIFIED:20151211T104232Z
SUMMARY:ESP-PV
LOCATION:Lecture Room H
PRIORITY:3
TRANSP:0
END:VEVENT
END:VCALENDAR
