BEGIN:VCALENDAR
PRODID:-//ICTPDiploma//ATRoom//EN
VERSION:1.0
BEGIN:VEVENT
DTSTART:20130327T080000Z
DTEND:20130327T093000Z
DCREATED:20121221T132056Z
UID:ATEvent-2f64d53759cd8bf8e8f2569edcf84509
SEQUENCE:0
LAST-MODIFIED:20121221T132216Z
SUMMARY:ESP-HYD
LOCATION:Lecture Room H
PRIORITY:3
TRANSP:0
END:VEVENT
BEGIN:VEVENT
DTSTART:20130329T080000Z
DTEND:20130329T093000Z
DCREATED:20130308T131810Z
UID:ATEvent-c0e48465f202336fc857cc0684a6f570
SEQUENCE:0
LAST-MODIFIED:20130308T131953Z
SUMMARY:GOOD FRIDAY
LOCATION:Lecture Room H
PRIORITY:3
TRANSP:0
END:VEVENT
BEGIN:VEVENT
DTSTART:20130327T100000Z
DTEND:20130327T113000Z
DCREATED:20121221T131439Z
UID:ATEvent-5df073b26a319b9dc9f63de64f190ba9
SEQUENCE:0
LAST-MODIFIED:20121221T131439Z
SUMMARY:ESP-CD
LOCATION:Lecture Room H
PRIORITY:3
TRANSP:0
END:VEVENT
BEGIN:VEVENT
DTSTART:20130328T100000Z
DTEND:20130328T113000Z
DCREATED:20121219T154549Z
UID:ATEvent-463469460f63a0e060672dd16c272345
SEQUENCE:0
LAST-MODIFIED:20121219T154550Z
SUMMARY:ESP-BC
LOCATION:Lecture Room H
PRIORITY:3
TRANSP:0
END:VEVENT
BEGIN:VEVENT
DTSTART:20130329T100000Z
DTEND:20130329T163000Z
DCREATED:20130308T132008Z
UID:ATEvent-4ec629f36f83b7c3f0eb9cc40c4fa4ff
SEQUENCE:0
LAST-MODIFIED:20130308T132113Z
SUMMARY:
LOCATION:Lecture Room H
PRIORITY:3
TRANSP:0
END:VEVENT
BEGIN:VEVENT
DTSTART:20130325T130000Z
DTEND:20130325T143000Z
DCREATED:20121221T132055Z
UID:ATEvent-fbf8855e5862f271179a5badda4cc495
SEQUENCE:0
LAST-MODIFIED:20121221T132204Z
SUMMARY:ESP-HYD
LOCATION:Lecture Room H
PRIORITY:3
TRANSP:0
END:VEVENT
BEGIN:VEVENT
DTSTART:20130327T130000Z
DTEND:20130327T143000Z
DCREATED:20121220T135610Z
UID:ATEvent-8994e5edad2bafedcbfb9c8ca2309a59
SEQUENCE:0
LAST-MODIFIED:20130326T131426Z
SUMMARY:ESP-BC
LOCATION:Lecture Room H
PRIORITY:3
TRANSP:0
END:VEVENT
BEGIN:VEVENT
DTSTART:20130329T100000Z
DTEND:20130329T163000Z
DCREATED:20130308T132008Z
UID:ATEvent-4ec629f36f83b7c3f0eb9cc40c4fa4ff
SEQUENCE:0
LAST-MODIFIED:20130308T132113Z
SUMMARY:
LOCATION:Lecture Room H
PRIORITY:3
TRANSP:0
END:VEVENT
BEGIN:VEVENT
DTSTART:20130329T100000Z
DTEND:20130329T163000Z
DCREATED:20130308T132008Z
UID:ATEvent-4ec629f36f83b7c3f0eb9cc40c4fa4ff
SEQUENCE:0
LAST-MODIFIED:20130308T132113Z
SUMMARY:
LOCATION:Lecture Room H
PRIORITY:3
TRANSP:0
END:VEVENT
END:VCALENDAR
