BEGIN:VCALENDAR
PRODID:-//ICTPDiploma//ATRoom//EN
VERSION:1.0
BEGIN:VEVENT
DTSTART:20160222T080000Z
DTEND:20160222T093000Z
DCREATED:20151214T143151Z
UID:ATEvent-6cf41782480441008b61dd75423007af
SEQUENCE:0
LAST-MODIFIED:20160309T142813Z
SUMMARY:ESP-ESM
LOCATION:Lecture Room H
PRIORITY:3
TRANSP:0
END:VEVENT
BEGIN:VEVENT
DTSTART:20160223T080000Z
DTEND:20160223T093000Z
DCREATED:20151214T143151Z
UID:ATEvent-889e2cc7003e4999b05039e6e70761b8
SEQUENCE:0
LAST-MODIFIED:20160309T142836Z
SUMMARY:ESP-ESM
LOCATION:Lecture Room H
PRIORITY:3
TRANSP:0
END:VEVENT
BEGIN:VEVENT
DTSTART:20160225T080000Z
DTEND:20160225T093000Z
DCREATED:20151214T143151Z
UID:ATEvent-64f377f68d6245a8bcfc64d90b9c52ee
SEQUENCE:0
LAST-MODIFIED:20151214T143151Z
SUMMARY:ESP-ESM
LOCATION:Lecture Room H
PRIORITY:3
TRANSP:0
END:VEVENT
BEGIN:VEVENT
DTSTART:20160226T080000Z
DTEND:20160226T093000Z
DCREATED:20151214T143151Z
UID:ATEvent-314fb141cd9d420084dc33efe4fd3b35
SEQUENCE:0
LAST-MODIFIED:20151214T143152Z
SUMMARY:ESP-ESM
LOCATION:Lecture Room H
PRIORITY:3
TRANSP:0
END:VEVENT
BEGIN:VEVENT
DTSTART:20160224T100000Z
DTEND:20160224T113000Z
DCREATED:20151214T143151Z
UID:ATEvent-80e7b0740da3472294408b794b42d1d9
SEQUENCE:0
LAST-MODIFIED:20160209T162348Z
SUMMARY:ESP-ESM
LOCATION:Lecture Room H
PRIORITY:3
TRANSP:0
END:VEVENT
BEGIN:VEVENT
DTSTART:20160222T130000Z
DTEND:20160222T143000Z
DCREATED:20151208T160647Z
UID:ATEvent-b5e945628f4e4cb4b1cbed0d7b679232
SEQUENCE:0
LAST-MODIFIED:20151208T160647Z
SUMMARY:ESP-MET
LOCATION:Lecture Room H
PRIORITY:3
TRANSP:0
END:VEVENT
BEGIN:VEVENT
DTSTART:20160225T130000Z
DTEND:20160225T143000Z
DCREATED:20151214T143227Z
UID:ATEvent-d8feea33995f433291d9e258533752ce
SEQUENCE:0
LAST-MODIFIED:20151214T143315Z
SUMMARY:ESP-ESM
LOCATION:Lecture Room H
PRIORITY:3
TRANSP:0
END:VEVENT
BEGIN:VEVENT
DTSTART:20160226T130000Z
DTEND:20160226T143000Z
DCREATED:20160212T123809Z
UID:ATEvent-17e9cfe68cd042e2b7ca0dffb5a31307
SEQUENCE:0
LAST-MODIFIED:20160212T123857Z
SUMMARY:ESP-SEIS
LOCATION:Lecture Room H
PRIORITY:3
TRANSP:0
END:VEVENT
BEGIN:VEVENT
DTSTART:20160223T150000Z
DTEND:20160223T163000Z
DCREATED:20151208T160647Z
UID:ATEvent-c9070812c6d74eff992843bda39b2e78
SEQUENCE:0
LAST-MODIFIED:20160223T101300Z
SUMMARY:ESP-MET
LOCATION:Lecture Room H
PRIORITY:3
TRANSP:0
END:VEVENT
BEGIN:VEVENT
DTSTART:20160224T150000Z
DTEND:20160224T163000Z
DCREATED:20151208T160647Z
UID:ATEvent-ca27f3bb155f4b3a8f3c1ace6aaeb9ff
SEQUENCE:0
LAST-MODIFIED:20160223T101313Z
SUMMARY:ESP-MET
LOCATION:Lecture Room H
PRIORITY:3
TRANSP:0
END:VEVENT
BEGIN:VEVENT
DTSTART:20160226T150000Z
DTEND:20160226T163000Z
DCREATED:20160212T123907Z
UID:ATEvent-b1ff30e1700c4f7986d0a6156c207f4b
SEQUENCE:0
LAST-MODIFIED:20160212T123937Z
SUMMARY:EXAM
LOCATION:Lecture Room H
PRIORITY:3
TRANSP:0
END:VEVENT
END:VCALENDAR
