BEGIN:VCALENDAR
PRODID:-//ICTPDiploma//ATRoom//EN
VERSION:1.0
BEGIN:VEVENT
DTSTART:20140130T080000Z
DTEND:20140130T093000Z
DCREATED:20140109T103133Z
UID:ATEvent-7bfb14af7e8c48ddaf56a1e5c205192a
SEQUENCE:0
LAST-MODIFIED:20140129T090612Z
SUMMARY:ESP-BC
LOCATION:Lecture Room H
PRIORITY:3
TRANSP:0
END:VEVENT
BEGIN:VEVENT
DTSTART:20140127T100000Z
DTEND:20140127T113000Z
DCREATED:20140109T102835Z
UID:ATEvent-cc7e67e111224c1e95a4c2ba3d6ba041
SEQUENCE:0
LAST-MODIFIED:20140109T102835Z
SUMMARY:ESP-SEIS
LOCATION:Lecture Room H
PRIORITY:3
TRANSP:0
END:VEVENT
BEGIN:VEVENT
DTSTART:20140128T100000Z
DTEND:20140128T113000Z
DCREATED:20140109T103133Z
UID:ATEvent-f5b031e23e4a4371a0fff2635878d021
SEQUENCE:0
LAST-MODIFIED:20140109T103133Z
SUMMARY:ESP-BC
LOCATION:Lecture Room H
PRIORITY:3
TRANSP:0
END:VEVENT
BEGIN:VEVENT
DTSTART:20140129T100000Z
DTEND:20140129T113000Z
DCREATED:20140109T102835Z
UID:ATEvent-1f568460694f4e1ab2122d6995afaa1d
SEQUENCE:0
LAST-MODIFIED:20140109T102835Z
SUMMARY:ESP-SEIS
LOCATION:Lecture Room H
PRIORITY:3
TRANSP:0
END:VEVENT
BEGIN:VEVENT
DTSTART:20140131T100000Z
DTEND:20140131T113000Z
DCREATED:20140109T102835Z
UID:ATEvent-c2bf59959c7340cdbf60a63092ee9b29
SEQUENCE:0
LAST-MODIFIED:20140109T102835Z
SUMMARY:ESP-SEIS
LOCATION:Lecture Room H
PRIORITY:3
TRANSP:0
END:VEVENT
BEGIN:VEVENT
DTSTART:20140129T130000Z
DTEND:20140129T143000Z
DCREATED:20140124T115843Z
UID:ATEvent-09649095e66d49469cd5c9c04ff408ef
SEQUENCE:0
LAST-MODIFIED:20140124T115954Z
SUMMARY:13:30-16:30 ESP-GEO Rdgs 6-7
LOCATION:Lecture Room H
PRIORITY:3
TRANSP:0
END:VEVENT
END:VCALENDAR
