BEGIN:VCALENDAR
PRODID:-//AT Content Types//AT Event//EN
VERSION:2.0
METHOD:PUBLISH
BEGIN:VEVENT
DTSTAMP:20260423T001704Z
CREATED:20090220T103308Z
UID:ATEvent-bac27aa009925a159af737c4a6d3bf8f
LAST-MODIFIED:20090220T103405Z
SUMMARY:SEIS
DTSTART:20090312T130000Z
DTEND:20090312T143000Z
LOCATION:Lecture Room H
CONTACT:Fabio Romanelli
URL:https://diploma-clear.ictp.it/courses/weekly-schedule/lecture-room-h/seis
CLASS:PUBLIC
END:VEVENT
END:VCALENDAR
