BEGIN:VCALENDAR
PRODID:-//AT Content Types//AT Event//EN
VERSION:1.0
BEGIN:VEVENT
DTSTART:20190912T153000Z
DTEND:20190912T170000Z
DCREATED:20190820T130624Z
UID:ATEvent-2674ea6c08954603a88559a88e4a0054
SEQUENCE:0
LAST-MODIFIED:20190820T130829Z
SUMMARY:room B - Italian Lectures
LOCATION:Lecture Room H
PRIORITY:3
TRANSP:0
END:VEVENT
END:VCALENDAR
