BEGIN:VCALENDAR
PRODID:-//AT Content Types//AT Event//EN
VERSION:2.0
METHOD:PUBLISH
BEGIN:VEVENT
DTSTAMP:20260423T015928Z
CREATED:20110216T102819Z
UID:ATEvent-32c95dc420decb473bfdbabf8a1f1943
LAST-MODIFIED:20110216T102845Z
SUMMARY:Readings
DTSTART:20110317T100000Z
DTEND:20110317T113000Z
LOCATION:Lecture Room H
CONTACT:F. Romanelli
URL:https://diploma-clear.ictp.it/courses/weekly-schedule/lecture-room-h/readings
CLASS:PUBLIC
END:VEVENT
END:VCALENDAR
