BEGIN:VCALENDAR
PRODID:-//AT Content Types//AT Event//EN
VERSION:2.0
METHOD:PUBLISH
BEGIN:VEVENT
DTSTAMP:20260421T020035Z
CREATED:20121002T122854Z
UID:ATEvent-881c8539665a1bffd87457aee90726a4
LAST-MODIFIED:20121002T123001Z
SUMMARY:PTH tut 3.
DTSTART:20121024T120000Z
DTEND:20121024T133000Z
LOCATION:Lecture Room H
CONTACT:M. Marsili\, marsili@ictp.it
URL:https://diploma-clear.ictp.it/courses/weekly-schedule/lecture-room-h/pth-tut-3
CLASS:PUBLIC
END:VEVENT
END:VCALENDAR
