BEGIN:VCALENDAR
PRODID:-//AT Content Types//AT Event//EN
VERSION:1.0
BEGIN:VEVENT
DTSTART:20121022T090000Z
DTEND:20121022T103000Z
DCREATED:20120926T090931Z
UID:ATEvent-c0bbabdc9493763f716495993815999b
SEQUENCE:0
LAST-MODIFIED:20120926T091001Z
SUMMARY:PTH 9
LOCATION:Lecture Room H
PRIORITY:3
TRANSP:0
END:VEVENT
END:VCALENDAR
