BEGIN:VCALENDAR
PRODID:-//AT Content Types//AT Event//EN
VERSION:2.0
METHOD:PUBLISH
BEGIN:VEVENT
DTSTAMP:20260420T185705Z
CREATED:20120926T091428Z
UID:ATEvent-c02635406c46396a8e0e2b929c073a85
LAST-MODIFIED:20120926T091458Z
SUMMARY:PTH 10
DTSTART:20121024T090000Z
DTEND:20121024T103000Z
LOCATION:Lecture Room H
CONTACT:M. Marsili
URL:https://diploma-clear.ictp.it/courses/weekly-schedule/lecture-room-h/pth-10
CLASS:PUBLIC
END:VEVENT
END:VCALENDAR
