BEGIN:VCALENDAR
PRODID:-//AT Content Types//AT Event//EN
VERSION:1.0
BEGIN:VEVENT
DTSTART:20120628T070000Z
DTEND:20120628T083000Z
DCREATED:20120523T121241Z
UID:ATEvent-c4c07220165c34a4665da78939b704cb
SEQUENCE:0
LAST-MODIFIED:20120523T121305Z
SUMMARY:PHY-RQM
LOCATION:Lecture Room H
PRIORITY:3
TRANSP:0
END:VEVENT
END:VCALENDAR
