BEGIN:VCALENDAR
PRODID:-//AT Content Types//AT Event//EN
VERSION:2.0
METHOD:PUBLISH
BEGIN:VEVENT
DTSTAMP:20260425T230503Z
CREATED:20120523T120812Z
UID:ATEvent-ebb57919077b3bbd5d3e5e1891fadacc
LAST-MODIFIED:20120523T120843Z
SUMMARY:PHY-RQM
DTSTART:20120619T070000Z
DTEND:20120619T083000Z
LOCATION:Lecture Room H
CONTACT:E. Gozzi
URL:https://diploma-clear.ictp.it/courses/weekly-schedule/lecture-room-h/phy-rqm-5
CLASS:PUBLIC
END:VEVENT
END:VCALENDAR
