BEGIN:VCALENDAR
PRODID:-//AT Content Types//AT Event//EN
VERSION:2.0
METHOD:PUBLISH
BEGIN:VEVENT
DTSTAMP:20260422T164751Z
CREATED:20110826T134913Z
UID:ATEvent-169dbdc4c4e17d8fa615a87e70506cba
LAST-MODIFIED:20110826T134929Z
SUMMARY:PHY-QM
DTSTART:20110912T120000Z
DTEND:20110912T133000Z
LOCATION:Lecture Room H
CONTACT:G. Thompson
URL:https://diploma-clear.ictp.it/courses/weekly-schedule/lecture-room-h/phy-qm-3
CLASS:PUBLIC
END:VEVENT
END:VCALENDAR
