BEGIN:VCALENDAR
PRODID:-//AT Content Types//AT Event//EN
VERSION:1.0
BEGIN:VEVENT
DTSTART:20111026T120000Z
DTEND:20111026T133000Z
DCREATED:20110902T143105Z
UID:ATEvent-e72428faeac3fe4cd77f918b13145f88
SEQUENCE:0
LAST-MODIFIED:20110902T143128Z
SUMMARY:PHY-QM
LOCATION:Lecture Room H
PRIORITY:3
TRANSP:0
END:VEVENT
END:VCALENDAR
