BEGIN:VCALENDAR
PRODID:-//AT Content Types//AT Event//EN
VERSION:2.0
METHOD:PUBLISH
BEGIN:VEVENT
DTSTAMP:20260423T020909Z
CREATED:20110901T150703Z
UID:ATEvent-7c16479ae4176f18d0157d0942b568f1
LAST-MODIFIED:20110901T150738Z
SUMMARY:PHY-QM
DTSTART:20111017T120000Z
DTEND:20111017T133000Z
LOCATION:Lecture Room H
CONTACT:G. Thompson
URL:https://diploma-clear.ictp.it/courses/weekly-schedule/lecture-room-h/phy-qm-17
CLASS:PUBLIC
END:VEVENT
END:VCALENDAR
