BEGIN:VCALENDAR
PRODID:-//AT Content Types//AT Event//EN
VERSION:1.0
BEGIN:VEVENT
DTSTART:20120615T090000Z
DTEND:20120615T103000Z
DCREATED:20120530T124646Z
UID:ATEvent-fbba92ac2856775990b08a8ee97c7154
SEQUENCE:0
LAST-MODIFIED:20120530T124723Z
SUMMARY:PHY-PES
LOCATION:Lecture Room H
PRIORITY:3
TRANSP:0
END:VEVENT
END:VCALENDAR
