BEGIN:VCALENDAR
PRODID:-//AT Content Types//AT Event//EN
VERSION:1.0
BEGIN:VEVENT
DTSTART:20120522T070000Z
DTEND:20120522T083000Z
DCREATED:20120213T110005Z
UID:ATEvent-e0ff8139894e8b81e03bdf9442960781
SEQUENCE:0
LAST-MODIFIED:20120213T110332Z
SUMMARY:PHY-PES
LOCATION:Lecture Room H
PRIORITY:3
TRANSP:0
END:VEVENT
END:VCALENDAR
