BEGIN:VCALENDAR
PRODID:-//AT Content Types//AT Event//EN
VERSION:2.0
METHOD:PUBLISH
BEGIN:VEVENT
DTSTAMP:20260420T030730Z
CREATED:20110826T141406Z
UID:ATEvent-e41cfc7431fd5c4c5d47fbaeb35974f3
LAST-MODIFIED:20110826T141443Z
SUMMARY:PHY-MM tut.
DTSTART:20110927T070000Z
DTEND:20110927T083000Z
LOCATION:Lecture Room H
CONTACT:V. Lukose
URL:https://diploma-clear.ictp.it/courses/weekly-schedule/lecture-room-h/phy-mm-tut-3
CLASS:PUBLIC
END:VEVENT
END:VCALENDAR
