BEGIN:VCALENDAR
PRODID:-//AT Content Types//AT Event//EN
VERSION:2.0
METHOD:PUBLISH
BEGIN:VEVENT
DTSTAMP:20260420T191818Z
CREATED:20110902T143318Z
UID:ATEvent-72b3054f819af0bea616cd2a6ab23497
LAST-MODIFIED:20110902T143337Z
SUMMARY:PHY-MM
DTSTART:20111027T120000Z
DTEND:20111027T133000Z
LOCATION:Lecture Room H
CONTACT:K.S. Narain
URL:https://diploma-clear.ictp.it/courses/weekly-schedule/lecture-room-h/phy-mm-16
CLASS:PUBLIC
END:VEVENT
END:VCALENDAR
