BEGIN:VCALENDAR
PRODID:-//AT Content Types//AT Event//EN
VERSION:2.0
METHOD:PUBLISH
BEGIN:VEVENT
DTSTAMP:20260425T225923Z
CREATED:20110901T150419Z
UID:ATEvent-1495ca522cac61f6c3a248745a3ebba6
LAST-MODIFIED:20110901T150444Z
SUMMARY:PHY-MM
DTSTART:20111013T120000Z
DTEND:20111013T133000Z
LOCATION:Lecture Room H
CONTACT:K.S. Narain
URL:https://diploma-clear.ictp.it/courses/weekly-schedule/lecture-room-h/phy-mm-12
CLASS:PUBLIC
END:VEVENT
END:VCALENDAR
