BEGIN:VCALENDAR
PRODID:-//AT Content Types//AT Event//EN
VERSION:2.0
METHOD:PUBLISH
BEGIN:VEVENT
DTSTAMP:20260423T184309Z
CREATED:20110606T140745Z
UID:ATEvent-b86f5ef6c4aa371d7da7f1d951c604de
LAST-MODIFIED:20110606T140816Z
SUMMARY:(orals)
DTSTART:20110627T120000Z
DTEND:20110627T133000Z
LOCATION:Lecture Room H
CONTACT:M. Marsili
URL:https://diploma-clear.ictp.it/courses/weekly-schedule/lecture-room-h/orals-1
CLASS:PUBLIC
END:VEVENT
END:VCALENDAR
