BEGIN:VCALENDAR
PRODID:-//AT Content Types//AT Event//EN
VERSION:1.0
BEGIN:VEVENT
DTSTART:20120810T090000Z
DTEND:20120810T103000Z
DCREATED:20120730T124331Z
UID:ATEvent-05ad6527287130afc78c8f6ca4f4c5b1
SEQUENCE:0
LAST-MODIFIED:20120730T124438Z
SUMMARY:Oral Exam
LOCATION:Lecture Room H
PRIORITY:3
TRANSP:0
END:VEVENT
END:VCALENDAR
