BEGIN:VCALENDAR
PRODID:-//AT Content Types//AT Event//EN
VERSION:1.0
BEGIN:VEVENT
DTSTART:20121101T100000Z
DTEND:20121101T113000Z
DCREATED:20120926T093128Z
UID:ATEvent-b31bfa9ddb08d0c49ae2403c73b608d3
SEQUENCE:0
LAST-MODIFIED:20120926T093202Z
SUMMARY:official holiday
LOCATION:Lecture Room H
PRIORITY:3
TRANSP:0
END:VEVENT
END:VCALENDAR
