BEGIN:VCALENDAR
PRODID:-//AT Content Types//AT Event//EN
VERSION:2.0
METHOD:PUBLISH
BEGIN:VEVENT
DTSTAMP:20260423T035224Z
CREATED:20110128T141151Z
UID:ATEvent-5590505b62f983640d242e52f1a74748
LAST-MODIFIED:20110128T141225Z
SUMMARY:mid-EXAM
DTSTART:20110208T150000Z
DTEND:20110208T163000Z
LOCATION:Lecture Room H
CONTACT:Xunqiang Bi
URL:https://diploma-clear.ictp.it/courses/weekly-schedule/lecture-room-h/mid-exam-2
CLASS:PUBLIC
END:VEVENT
END:VCALENDAR
