BEGIN:VCALENDAR
PRODID:-//AT Content Types//AT Event//EN
VERSION:1.0
BEGIN:VEVENT
DTSTART:20230406T120000Z
DTEND:20230406T133000Z
DCREATED:20221207T145604Z
UID:ATEvent-732499f948cb41d59b7ea653751d3ca5
SEQUENCE:0
LAST-MODIFIED:20221207T145604Z
SUMMARY:ESP-MET
LOCATION:Lecture Room H
PRIORITY:3
TRANSP:0
END:VEVENT
END:VCALENDAR
