BEGIN:VCALENDAR
PRODID:-//AT Content Types//AT Event//EN
VERSION:1.0
BEGIN:VEVENT
DTSTART:20230320T130000Z
DTEND:20230320T143000Z
DCREATED:20221122T151310Z
UID:ATEvent-9bb5bd648aeb4a1f9eacdf790d42c32a
SEQUENCE:0
LAST-MODIFIED:20221122T151310Z
SUMMARY:ESP-BGC zoom
LOCATION:Lecture Room H
PRIORITY:3
TRANSP:0
END:VEVENT
END:VCALENDAR
