BEGIN:VCALENDAR
PRODID:-//AT Content Types//AT Event//EN
VERSION:1.0
BEGIN:VEVENT
DTSTART:20230228T130000Z
DTEND:20230228T143000Z
DCREATED:20221116T125859Z
UID:ATEvent-c4acd9222bff4e6ea7eb0bf0999c46a3
SEQUENCE:0
LAST-MODIFIED:20221116T125859Z
SUMMARY:ESP-SG
LOCATION:Lecture Room H
PRIORITY:3
TRANSP:0
END:VEVENT
END:VCALENDAR
