BEGIN:VCALENDAR
PRODID:-//AT Content Types//AT Event//EN
VERSION:2.0
METHOD:PUBLISH
BEGIN:VEVENT
DTSTAMP:20260420T030932Z
CREATED:20221110T155711Z
UID:ATEvent-633da055aa964c3a9e8eb67cff88020d
LAST-MODIFIED:20221110T155711Z
SUMMARY:ESP/CMP-SP in LB-Lab
DTSTART:20230127T130000Z
DTEND:20230127T143000Z
LOCATION:Lecture Room H
CONTACT:I. Davidenkova
URL:https://diploma-clear.ictp.it/courses/weekly-schedule/lecture-room-h/lecture.2022-11-10.8317744297
CLASS:PUBLIC
END:VEVENT
END:VCALENDAR
