BEGIN:VCALENDAR
PRODID:-//AT Content Types//AT Event//EN
VERSION:1.0
BEGIN:VEVENT
DTSTART:20230127T150000Z
DTEND:20230127T163000Z
DCREATED:20221110T155556Z
UID:ATEvent-57aa74de05b44dfda94de0d23dce907c
SEQUENCE:0
LAST-MODIFIED:20221110T155556Z
SUMMARY:ESP/CMP-SP in LB-Lab
LOCATION:Lecture Room H
PRIORITY:3
TRANSP:0
END:VEVENT
END:VCALENDAR
