BEGIN:VCALENDAR
PRODID:-//AT Content Types//AT Event//EN
VERSION:2.0
METHOD:PUBLISH
BEGIN:VEVENT
DTSTAMP:20260420T001028Z
CREATED:20220722T083153Z
UID:ATEvent-86314002240342ebaba76835423419f5
LAST-MODIFIED:20220722T083154Z
SUMMARY:ESP-GFD
DTSTART:20220919T120000Z
DTEND:20220919T133000Z
LOCATION:Lecture Room H
CONTACT:R. Farneti
URL:https://diploma-clear.ictp.it/courses/weekly-schedule/lecture-room-h/lecture.2022-07-22.7136420382
CLASS:PUBLIC
END:VEVENT
END:VCALENDAR
