BEGIN:VCALENDAR
PRODID:-//AT Content Types//AT Event//EN
VERSION:1.0
BEGIN:VEVENT
DTSTART:20221010T120000Z
DTEND:20221010T133000Z
DCREATED:20220721T124413Z
UID:ATEvent-8b05386c143b49ce8ea24957ceb9f7c2
SEQUENCE:0
LAST-MODIFIED:20220721T124413Z
SUMMARY:ESP-TPA
LOCATION:Lecture Room H
PRIORITY:3
TRANSP:0
END:VEVENT
END:VCALENDAR
