BEGIN:VCALENDAR
PRODID:-//AT Content Types//AT Event//EN
VERSION:2.0
METHOD:PUBLISH
BEGIN:VEVENT
DTSTAMP:20260419T211629Z
CREATED:20220721T124222Z
UID:ATEvent-b1814c79072e48d6b59bbdaa0a0a1a0e
LAST-MODIFIED:20220721T124222Z
SUMMARY:ESP/CMP-NUM I in Lab
DTSTART:20220926T070000Z
DTEND:20220926T083000Z
LOCATION:Lecture Room H
URL:https://diploma-clear.ictp.it/courses/weekly-schedule/lecture-room-h/lecture.2022-07-21.3422140364
CLASS:PUBLIC
END:VEVENT
END:VCALENDAR
